BEGIN:VCALENDAR
VERSION:2.0
PRODID:-//wp-events-plugin.com//7.2.3.1//EN
TZID:Europe/Paris
X-WR-TIMEZONE:Europe/Paris
BEGIN:VEVENT
UID:17@sportadapte35.fr
DTSTART;TZID=Europe/Paris:20231017T000000
DTEND;TZID=Europe/Paris:20231017T000000
DTSTAMP:20231213T164103Z
URL:https://sportadapte35.fr/events/stage-de-badminton/
SUMMARY:Stage de Badminton
DESCRIPTION:Afin de préparer le Championnat de France Para Badminton Adapt
 é qui aura lieu le weekend du 25-26 novembre prochain\, le Badminton Club
  du Pays de Fougères (BCPF) vous propose un stage de perfectionnement par
 a badminton adapté le samedi 21 octobre 2023.  Une priorité d'inscript
 ion sera donnée aux participants du Championnat de France. \n\nLes inscr
 iptions sont à transmettre directement à Lydie MONFORT sur cette adresse
  : lydiemonf@hotmail.fr avant le mardi 17 octobre.\n\nVous trouverez ci-jo
 int l'affiche pour cet évènement\, n'hésitez pas à relayer au sein de 
 votre réseau.\n\nPour rappel Si vous envisagez une participation au Cham
 pionnat de France Para Badminton Adapté\, merci d'envoyer au CDSA votre f
 iche d'engagement pour le vendredi 13 octobre.
ATTACH;FMTTYPE=image/jpeg:https://sportadapte35.fr/wp-content/uploads/2023
 /10/StageBadminton.png
CATEGORIES:Tournois&amp;Stages
LOCATION:Cosec de la Chattiere\, 47 avenue Georges Pompidou\, 47 avenue Geo
 rges Pompidou\, 35300\, France
GEO:48.348685;-1.202102
X-APPLE-STRUCTURED-LOCATION;VALUE=URI;X-ADDRESS=47 avenue Georges Pompidou\
 , 47 avenue Georges Pompidou\, 35300\, France;X-APPLE-RADIUS=100;X-TITLE=C
 osec de la Chattiere:geo:48.348685,-1.202102
END:VEVENT
BEGIN:VTIMEZONE
TZID:Europe/Paris
X-LIC-LOCATION:Europe/Paris
BEGIN:DAYLIGHT
DTSTART:20230326T030000
TZOFFSETFROM:+0100
TZOFFSETTO:+0200
TZNAME:CEST
END:DAYLIGHT
END:VTIMEZONE
END:VCALENDAR