BEGIN:VCALENDAR
VERSION:2.0
PRODID:-//wp-events-plugin.com//7.2.3.1//EN
TZID:Europe/Paris
X-WR-TIMEZONE:Europe/Paris
BEGIN:VEVENT
UID:15@sportadapte35.fr
DTSTART;TZID=Europe/Paris:20231018T090000
DTEND;TZID=Europe/Paris:20231018T170000
DTSTAMP:20231109T131803Z
URL:https://sportadapte35.fr/events/sensicap/
SUMMARY:SENSICAP
DESCRIPTION:Pour rappel ou information\, ce mercredi 18 Octobre à Pipriac 
 est organisée l'édition 2023 de l'événement SENSICAP. Une journée d'i
 nformation et de sensibilisation sur le monde du handicap. De nombreux ac
 teurs seront présents dans les domaines du sport\, de la culture\, du bie
 n-être et de la solidarité.\n\nLe CDSA35 sera présent pour informer et 
 sensibiliser sur le Sport Adapté mais également faire la promotion des A
 ctivités Motrices.
ATTACH;FMTTYPE=image/jpeg:https://sportadapte35.fr/wp-content/uploads/2023
 /10/SENSICAP-VF.png
CATEGORIES:Activités Motrices
LOCATION:Complexe Sportif des Terres Rouges\, 34 rue de L avenir\, Pipriac\
 , 35550\, France
GEO:47.80855590;-1.94185940
X-APPLE-STRUCTURED-LOCATION;VALUE=URI;X-ADDRESS=34 rue de L avenir\, Pipria
 c\, 35550\, France;X-APPLE-RADIUS=100;X-TITLE=Complexe Sportif des Terres 
 Rouges:geo:47.80855590,-1.94185940
END:VEVENT
BEGIN:VTIMEZONE
TZID:Europe/Paris
X-LIC-LOCATION:Europe/Paris
BEGIN:DAYLIGHT
DTSTART:20230326T030000
TZOFFSETFROM:+0100
TZOFFSETTO:+0200
TZNAME:CEST
END:DAYLIGHT
END:VTIMEZONE
END:VCALENDAR