BEGIN:VCALENDAR
VERSION:2.0
PRODID:-//wp-events-plugin.com//7.2.3.1//EN
TZID:Europe/Paris
X-WR-TIMEZONE:Europe/Paris
BEGIN:VEVENT
UID:8@sportadapte35.fr
DTSTART;TZID=Europe/Paris:20231012T140000
DTEND;TZID=Europe/Paris:20231012T163000
DTSTAMP:20231109T131725Z
URL:https://sportadapte35.fr/events/reunion-de-rentree/
SUMMARY:Réunion de Rentrée
DESCRIPTION:
ATTACH;FMTTYPE=image/jpeg:https://sportadapte35.fr/wp-content/uploads/2022
 /08/Lundi-05-septembre-2022-à-14h-Maison-des-Sports-13-B-Avenue-de-Cucil
 lé-RENNES.png
CATEGORIES:Vie de l'Association
LOCATION:Maison des Sports CDSA35\, 13b\, avenue de Cucillé \, Rennes\, 35
 000\, France
GEO:48.126038;-1.699381
X-APPLE-STRUCTURED-LOCATION;VALUE=URI;X-ADDRESS=13b\, avenue de Cucillé \,
  Rennes\, 35000\, France;X-APPLE-RADIUS=100;X-TITLE=Maison des Sports CDSA
 35:geo:48.126038,-1.699381
END:VEVENT
BEGIN:VTIMEZONE
TZID:Europe/Paris
X-LIC-LOCATION:Europe/Paris
BEGIN:DAYLIGHT
DTSTART:20230326T030000
TZOFFSETFROM:+0100
TZOFFSETTO:+0200
TZNAME:CEST
END:DAYLIGHT
END:VTIMEZONE
END:VCALENDAR