BEGIN:VCALENDAR
VERSION:2.0
PRODID:-//wp-events-plugin.com//7.2.3.1//EN
TZID:Europe/Paris
X-WR-TIMEZONE:Europe/Paris
BEGIN:VEVENT
UID:59@sportadapte35.fr
DTSTART;TZID=Europe/Paris:20250911T140000
DTEND;TZID=Europe/Paris:20250911T163000
DTSTAMP:20250910T152929Z
URL:https://sportadapte35.fr/events/reunion-de-rentree-2025/
SUMMARY:Réunion de rentrée 2025
DESCRIPTION:Bonjour\,\n\nLe Comité Départemental Sport Adapté d'Ille et 
 Vilaine organise sa réunion de rentrée 2025 le\n\nJeudi 11 septembre\n\n
 à 14h00\n\nà la Maison des Sports à Rennes\n\nMerci de nous faire un re
 tour de votre présence pour le lundi 08 septembre au plus tard.\n\nPour i
 nformation\, la réunion va être adaptée afin de la rendre plus accessib
 le aux sportifs : elle sera plus courte\, illustrée par des vidéos\, des
  photos et des témoignages.\n\n‍‍‍ Cette réunion de rentrée est 
 également ouverte aux familles intéressées et disponibles en journée d
 onc n'hésitez pas à relayer l'information !\n\nAu plaisir de vous y retr
 ouver !\n\nSportivement\,
ATTACH;FMTTYPE=image/jpeg:https://sportadapte35.fr/wp-content/uploads/2025
 /09/Reunion-de-rentree-2025.png
CATEGORIES:Vie de l'Association
LOCATION:Maison des Sports CDSA35\, 13b\, avenue de Cucillé \, Rennes\, 35
 000\, France
GEO:48.126038;-1.699381
X-APPLE-STRUCTURED-LOCATION;VALUE=URI;X-ADDRESS=13b\, avenue de Cucillé \,
  Rennes\, 35000\, France;X-APPLE-RADIUS=100;X-TITLE=Maison des Sports CDSA
 35:geo:48.126038,-1.699381
END:VEVENT
BEGIN:VTIMEZONE
TZID:Europe/Paris
X-LIC-LOCATION:Europe/Paris
BEGIN:DAYLIGHT
DTSTART:20250330T030000
TZOFFSETFROM:+0100
TZOFFSETTO:+0200
TZNAME:CEST
END:DAYLIGHT
END:VTIMEZONE
END:VCALENDAR