BEGIN:VCALENDAR
VERSION:2.0
PRODID:-//wp-events-plugin.com//7.2.3.1//EN
TZID:Europe/Paris
X-WR-TIMEZONE:Europe/Paris
BEGIN:VEVENT
UID:33@sportadapte35.fr
DTSTART;TZID=Europe/Paris:20240226T133000
DTEND;TZID=Europe/Paris:20240226T163000
DTSTAMP:20240102T121841Z
URL:https://sportadapte35.fr/events/rencontre-aquatique-%f0%9f%92%a6/
SUMMARY:Rencontre aquatique &#x1f4a6\;
DESCRIPTION:Bonjour\,\n\nPour une rencontre aquatique Sport Adapté Jeunes 
 (-21ans)\, on se donne rendez-vous \n\nLundi 26 février 2024 à Maen Roch
  de 13h30 à 16h30\n\nCette journée est organisée en partenariat avec l'
 association Couesnon Marche de Bretagne Sauvetage Secourisme  (CMBSS).\n\n
 Le nombre de places est limité et les inscriptions seront enregistrées p
 ar ordre d'arrivée.\n\nPour rappel les Activités Motrices sont en priori
 té à destination des personnes ayant des difficultés à entrer dans une
  activité physique et sportive codifiée. \n\nRestant à votre dispositio
 n pour tous renseignements complémentaires.\n\nA très vite !\n\nSportive
 ment\,
ATTACH;FMTTYPE=image/jpeg:https://sportadapte35.fr/wp-content/uploads/2024
 /01/Affiche-rencontre-aquatique-1-pdf.jpg
CATEGORIES:Activités Motrices
LOCATION:Maen Roch\, Maen Roch\, Maen Roch\, France
GEO:48.39738390;-1.34029792
X-APPLE-STRUCTURED-LOCATION;VALUE=URI;X-ADDRESS=Maen Roch\, Maen Roch\, Fra
 nce;X-APPLE-RADIUS=100;X-TITLE=Maen Roch:geo:48.39738390,-1.34029792
END:VEVENT
BEGIN:VTIMEZONE
TZID:Europe/Paris
X-LIC-LOCATION:Europe/Paris
BEGIN:STANDARD
DTSTART:20231029T020000
TZOFFSETFROM:+0200
TZOFFSETTO:+0100
TZNAME:CET
END:STANDARD
END:VTIMEZONE
END:VCALENDAR