BEGIN:VCALENDAR
VERSION:2.0
PRODID:-//wp-events-plugin.com//7.2.3.1//EN
TZID:Europe/Paris
X-WR-TIMEZONE:Europe/Paris
BEGIN:VEVENT
UID:43@sportadapte35.fr
DTSTART;TZID=Europe/Paris:20250118T130000
DTEND;TZID=Europe/Paris:20250118T170000
DTSTAMP:20250107T133329Z
URL:https://sportadapte35.fr/events/rencontre-amicale-de-judo/
SUMMARY:Rencontre amicale de judo
DESCRIPTION:Bonjour à tous\,\n\n Le Judo Club Ouest Rennais (JCOR) en part
 enariat avec le Comité Départemental Sport Adapté d'Ille-et-Vilaine\, o
 rganise une rencontre amicale de judo le Samedi 18 janvier 2024 à L'Hermi
 tage.\n\n  Vous trouverez en pièces jointes l'invitation du JCOR et l'aff
 iche de l'évènement. Merci d'informer Antoine LEVREL sur antoine.levrel@
 hotmail.fr / 06.84.36.01.94 de votre présence. \n\n On compte sur vous po
 ur relayer l'information à votre réseau !\n\n Joyeuses fêtes de fin d'a
 nnée et à très vite en 2025 !\n\nSportivement\,
ATTACH;FMTTYPE=image/jpeg:https://sportadapte35.fr/wp-content/uploads/2025
 /01/Affiche-tournoi-Judo-lHermitage-pdf.jpg
CATEGORIES:Tournois&amp;Stages
LOCATION:L'Hermitage\, Salles cardonna et comaneci\, l'hermitage\, ille et 
 vilaine\, bretagne\, France
GEO:48.12430000;-1.81830000
X-APPLE-STRUCTURED-LOCATION;VALUE=URI;X-ADDRESS=Salles cardonna et comaneci
 \, l'hermitage\, ille et vilaine\, bretagne\, France;X-APPLE-RADIUS=100;X-
 TITLE=L'Hermitage:geo:48.12430000,-1.81830000
END:VEVENT
BEGIN:VTIMEZONE
TZID:Europe/Paris
X-LIC-LOCATION:Europe/Paris
BEGIN:STANDARD
DTSTART:20241027T020000
TZOFFSETFROM:+0200
TZOFFSETTO:+0100
TZNAME:CET
END:STANDARD
END:VTIMEZONE
END:VCALENDAR