BEGIN:VCALENDAR
VERSION:2.0
PRODID:-//wp-events-plugin.com//7.2.3.1//EN
TZID:Europe/Paris
X-WR-TIMEZONE:Europe/Paris
BEGIN:VEVENT
UID:51@sportadapte35.fr
DTSTART;TZID=Europe/Paris:20250204T133000
DTEND;TZID=Europe/Paris:20250204T163000
DTSTAMP:20250502T141713Z
URL:https://sportadapte35.fr/events/rencontre-activites-motrices-a-la-rech
 erche-des-anneaux-olympique/
SUMMARY:Rencontre Activités Motrices "A la recherche des Anneaux Olympique
  !"
DESCRIPTION:Bonjour\,\n\n \n La prochaine journée Activités Motrices appr
 oche à grands pas\, on se donne rendez-vous \n\n  \n\nMardi 04 Février 
 à Boisgervilly de 13h45 à 16h\n\nSur le thème : " A la recherche des An
 neaux Olympique ! "\n\n \n\nCette journée est organisée en partenariat a
 vec l’Office des Sports Saint Méen Montauban (OSSMM).\n\n\n\n \n\n⚠
 ️ Pour rappel les Activités Motrices sont en priorité à destination d
 es personnes ayant des difficultés à entrer dans une activité physique 
 et sportive codifiée. \n\n \n\nRestant à votre disposition pour tous ren
 seignements complémentaires.\n\n \n
ATTACH;FMTTYPE=image/jpeg:https://sportadapte35.fr/wp-content/uploads/2025
 /01/Affiche-Activites-Motrices-04-fev-2025-pdf.jpg
CATEGORIES:Activités Motrices
END:VEVENT
BEGIN:VTIMEZONE
TZID:Europe/Paris
X-LIC-LOCATION:Europe/Paris
BEGIN:STANDARD
DTSTART:20241027T020000
TZOFFSETFROM:+0200
TZOFFSETTO:+0100
TZNAME:CET
END:STANDARD
END:VTIMEZONE
END:VCALENDAR