BEGIN:VCALENDAR
VERSION:2.0
PRODID:-//wp-events-plugin.com//7.2.3.1//EN
TZID:Europe/Paris
X-WR-TIMEZONE:Europe/Paris
BEGIN:VEVENT
UID:60@sportadapte35.fr
DTSTART;TZID=Europe/Paris:20250923T133000
DTEND;TZID=Europe/Paris:20250923T163000
DTSTAMP:20250910T165614Z
URL:https://sportadapte35.fr/events/premiere-journee-du-programme-basa-mar
 che-sante-et-marche-nordique-a-dinard/
SUMMARY:Première journée du programme BASA – Marche Santé et Marche No
 rdique à Dinard
DESCRIPTION:Bonjour à toutes et à tous\,\n\nLa saison sportive du Sport A
 dapté redémarre\, et il est temps pour nous de vous transmettre les prem
 ières informations concernant le programme Bouger avec le Sport Adapté (
 BASA).\n\n Une première Marche Santé & Marche Nordique est organisée pa
 r l’association Sport Adapté Côte d’Émeraude (SACE) à Dinard.\n\n 
 Mardi 23 septembre\n 13h30 – 16h30\nDinard\n\nN'hésitez pas à nous con
 tacter si vous souhaitez des informations complémentaires. \n\nAu plaisir
  de vous y retrouver nombreux ! \;)
ATTACH;FMTTYPE=image/jpeg:https://sportadapte35.fr/wp-content/uploads/2025
 /09/Marche-Sante-2309-x1-2-pdf.jpg
CATEGORIES:Sport Santé
LOCATION:Dinard\, Dinard\, 
GEO:47.4;1.6
X-APPLE-STRUCTURED-LOCATION;VALUE=URI;X-ADDRESS=Dinard\, ;X-APPLE-RADIUS=10
 0;X-TITLE=Dinard:geo:47.4,1.6
END:VEVENT
BEGIN:VTIMEZONE
TZID:Europe/Paris
X-LIC-LOCATION:Europe/Paris
BEGIN:DAYLIGHT
DTSTART:20250330T030000
TZOFFSETFROM:+0100
TZOFFSETTO:+0200
TZNAME:CEST
END:DAYLIGHT
END:VTIMEZONE
END:VCALENDAR