BEGIN:VCALENDAR
VERSION:2.0
PRODID:-//wp-events-plugin.com//7.2.3.1//EN
TZID:Europe/Paris
X-WR-TIMEZONE:Europe/Paris
BEGIN:VEVENT
UID:50@sportadapte35.fr
DTSTART;TZID=Europe/Paris:20241112T133000
DTEND;TZID=Europe/Paris:20241112T170000
DTSTAMP:20250107T144658Z
URL:https://sportadapte35.fr/events/marche-sante-seniors-2/
SUMMARY:Marche santé séniors
DESCRIPTION:Bonjour\,\n\n \n\nLe programme Sport Santé "Bouger avec le Spo
 rt Adapté" se poursuit avec un troisième rendez-vous pour 2024-2025 !  \
 n\n \n\n                  On espère v
 ous compter nombreux pour la marche santé séniors le\n\n Mardi 12 Novemb
 re 2024 \n\n⌚ de 13h30 à 16h30 \n\n à Guipel \n\n \n\nEn partenariat a
 vec l'Association Sportive de la Bretèche (ASB)\, nous vous proposerons d
 eux circuits (4KM et 6KM) à destination des séniors âgés de +55 ans. \
 n\n \n\nVous trouverez en pièces jointes l'affiche et le dossier d'inscri
 ption à me retourner avant le vendredi 08 novembre. Le nombre de places e
 st limité et les inscriptions seront enregistrées par ordre d'arrivée.\
 n\n \n\nN'hésitez pas à nous contacter pour tous renseignements complém
 entaires et à relayer dans votre réseau. \n\n \n\nA très vite !\n\n \n\
 nSportivement\,
ATTACH;FMTTYPE=image/jpeg:https://sportadapte35.fr/wp-content/uploads/2025
 /01/Affiche-marche-sante-novembre-2024-pdf.jpg
CATEGORIES:Sport Santé
END:VEVENT
BEGIN:VTIMEZONE
TZID:Europe/Paris
X-LIC-LOCATION:Europe/Paris
BEGIN:STANDARD
DTSTART:20241027T020000
TZOFFSETFROM:+0200
TZOFFSETTO:+0100
TZNAME:CET
END:STANDARD
END:VTIMEZONE
END:VCALENDAR