BEGIN:VCALENDAR
VERSION:2.0
PRODID:-//wp-events-plugin.com//7.2.3.1//EN
TZID:Europe/Paris
X-WR-TIMEZONE:Europe/Paris
BEGIN:VEVENT
UID:52@sportadapte35.fr
DTSTART;TZID=Europe/Paris:20250225T134500
DTEND;TZID=Europe/Paris:20250225T161500
DTSTAMP:20250502T141526Z
URL:https://sportadapte35.fr/events/marche-sante-orientation-2/
SUMMARY:Marche Santé Orientation
DESCRIPTION:Bonjour\,\n\n \n\nLe programme Sport Santé "Bouger avec le Spo
 rt Adapté" se poursuit avec un 6ème rendez-vous pour 2024-2025 !  \n\n \
 n\nOn espère vous compter nombreux pour la marche santé orientation du\n
 \n \n\n Mardi 25 Février 2025 \n\n⌚ de 13h45 à 16h \n\n à SAINT MEEN 
 LE GRAND\n\n \n\nEn partenariat avec l'Office des Sports de St Méen Monta
 uban (OSSMM)\, nous vous proposerons deux circuits d'orientation : un de 3
 -4km et un de 5-6km. \n\n\nN'hésitez pas à nous contacter pour tous rens
 eignements complémentaires et à relayer dans votre réseau. \n\n \n\n
ATTACH;FMTTYPE=image/jpeg:https://sportadapte35.fr/wp-content/uploads/2025
 /01/Affiche-Marche-Sante-Orientation-fev-2025-pdf.jpg
CATEGORIES:Sport Santé
END:VEVENT
BEGIN:VTIMEZONE
TZID:Europe/Paris
X-LIC-LOCATION:Europe/Paris
BEGIN:STANDARD
DTSTART:20241027T020000
TZOFFSETFROM:+0200
TZOFFSETTO:+0100
TZNAME:CET
END:STANDARD
END:VTIMEZONE
END:VCALENDAR