BEGIN:VCALENDAR
VERSION:2.0
PRODID:-//wp-events-plugin.com//7.2.3.1//EN
TZID:Europe/Paris
X-WR-TIMEZONE:Europe/Paris
BEGIN:VEVENT
UID:40@sportadapte35.fr
DTSTART;TZID=Europe/Paris:20250527T133000
DTEND;TZID=Europe/Paris:20250527T170000
DTSTAMP:20250502T141611Z
URL:https://sportadapte35.fr/events/marche-sante-et-decouverte-aviron-indo
 or/
SUMMARY:Marche santé et découverte aviron indoor
DESCRIPTION:Bonjour\,\n\n \n\nLe programme Sport Santé "Bouger avec le Spo
 rt Adapté" se poursuit avec un cinquième rendez-vous pour 2024-2025 !  \
 n\n \n\nOn espère vous compter nombreux pour la marche santé et découve
 rte aviron indoor le\n\n\n\n Mardi 27 mai 2025  2025 \n\n⌚ de 13h30 à 1
 6h30 \n\n à REDON\n\n \n\nEn partenariat avec l'Association Aviron Pays d
 e Redon (APR)\, nous vous proposerons un circuit de moins de 3KM et une d
 écouverte de l'aviron en intérieur (ergomètres). \n\n \n\n\nN'hésitez 
 pas à nous contacter pour tous renseignements complémentaires et à rela
 yer dans votre réseau. \n\n\n\n\n\n\n\n\n\n \n\n
ATTACH;FMTTYPE=image/jpeg:https://sportadapte35.fr/wp-content/uploads/2025
 /01/Affiche-marche-et-aviron-mai-2025-1-pdf.jpg
CATEGORIES:Sport Santé
END:VEVENT
BEGIN:VTIMEZONE
TZID:Europe/Paris
X-LIC-LOCATION:Europe/Paris
BEGIN:DAYLIGHT
DTSTART:20250330T030000
TZOFFSETFROM:+0100
TZOFFSETTO:+0200
TZNAME:CEST
END:DAYLIGHT
END:VTIMEZONE
END:VCALENDAR