BEGIN:VCALENDAR
VERSION:2.0
PRODID:-//wp-events-plugin.com//7.2.3.1//EN
TZID:Europe/Paris
X-WR-TIMEZONE:Europe/Paris
BEGIN:VEVENT
UID:56@sportadapte35.fr
DTSTART;TZID=Europe/Paris:20250425T103000
DTEND;TZID=Europe/Paris:20250425T160000
DTSTAMP:20250502T141542Z
URL:https://sportadapte35.fr/events/marche-sante-et-canoe-kayak/
SUMMARY:MARCHE SANTE ET CANOË-KAYAK
DESCRIPTION:Bonjour\,\n\n \n\nLe programme Sport Santé "Bouger avec le Spo
 rt Adapté" se poursuit avec le rendez-vous N°8 pour 2024-2025 !  \n\n \n
 \nOn espère vous compter nombreux pour la marche santé et découverte ca
 noë-kayak du\n\n \n\n Vendredi 25 avril 2025 \n\nde 10H30 à 16h\n\n à M
 onfort sur Meu\n\n \n\nEn partenariat avec le club de Canoë-Kayak Pays de
  Brocéliande (CKPB)\, nous vous proposerons un circuit de marche de 3km e
 t une navigation en canoë. \n\n \n\n\n Prenez note : \n\nle groupe sera d
 ivisé en 2 \n\nchaque groupe fera une marche et une navigation canoë (so
 it le matin\, soit l'après-midi)\, merci de bien cocher votre choix sur l
 'inscription\npour la navigation\, il faudra 1 accompagnateur par inscrit\
 nMerci d'indiquer les participants qui ne souhaite pas faire la navigation
 \n\n\n Le nombre de places est limité et les inscriptions seront enregist
 rées par ordre d'arrivée.\n\n \n\nN'hésitez pas à nous contacter pour 
 tous renseignements complémentaires et à relayer dans votre réseau. \n\
 n
ATTACH;FMTTYPE=image/jpeg:https://sportadapte35.fr/wp-content/uploads/2025
 /04/Affiche-marche-sante-et-canoe-AVRIL-2025-pdf.jpg
CATEGORIES:Sport Santé
END:VEVENT
BEGIN:VTIMEZONE
TZID:Europe/Paris
X-LIC-LOCATION:Europe/Paris
BEGIN:DAYLIGHT
DTSTART:20250330T030000
TZOFFSETFROM:+0100
TZOFFSETTO:+0200
TZNAME:CEST
END:DAYLIGHT
END:VTIMEZONE
END:VCALENDAR