BEGIN:VCALENDAR
VERSION:2.0
PRODID:-//wp-events-plugin.com//7.2.3.1//EN
TZID:Europe/Paris
X-WR-TIMEZONE:Europe/Paris
BEGIN:VEVENT
UID:48@sportadapte35.fr
DTSTART;TZID=Europe/Paris;VALUE=DATE:20241117
DTEND;TZID=Europe/Paris;VALUE=DATE:20241118
DTSTAMP:20250107T140030Z
URL:https://sportadapte35.fr/events/championnat-departemental-para-basketb
 all-adapte-phase-1/
SUMMARY:Championnat Départemental Para Basketball Adapté - PHASE 1
DESCRIPTION:Bonjour\,\n\n \n\n Le Championnat Départemental Para-Basket Ba
 ll Adapté va bientôt démarrer\, la 1ère phase est prévue le Dimanche 
 17 Novembre 2024 à Dol de Bretagne.\n\n \n\n  Vous trouverez en pièces j
 ointes les informations avec l'affiche\, le dossier d'inscription et la fi
 che d'engagement à retourner avant le mercredi 13/11. \n\nN'hésitez pas 
 à revenir vers moi si besoin pour toutes questions ou renseignements comp
 lémentaires. \n\n \n\n Merci à tous également de me renvoyer vos prévi
 sions d'engagements d'équipes dès que possible pour que le planning des 
 matchs puisse être réalisé dans les meilleurs délais. \n\n \n\n On com
 pte sur vous pour relayer l'information à votre réseau et aux supporters
 .\n\n\nBelle journée !\n\nSportivement\,
ATTACH;FMTTYPE=image/jpeg:https://sportadapte35.fr/wp-content/uploads/2025
 /01/Affiche-Para-Basket-Adapte-2024-2025-scaled.jpg
CATEGORIES:Championnats
LOCATION:Dol de Bretagne\, Dol de Bretagne\, 
GEO:48.54969;-1.753965
X-APPLE-STRUCTURED-LOCATION;VALUE=URI;X-ADDRESS=Dol de Bretagne\, ;X-APPLE-
 RADIUS=100;X-TITLE=Dol de Bretagne:geo:48.54969,-1.753965
END:VEVENT
BEGIN:VTIMEZONE
TZID:Europe/Paris
X-LIC-LOCATION:Europe/Paris
BEGIN:STANDARD
DTSTART:20241027T020000
TZOFFSETFROM:+0200
TZOFFSETTO:+0100
TZNAME:CET
END:STANDARD
END:VTIMEZONE
END:VCALENDAR