BEGIN:VCALENDAR
VERSION:2.0
PRODID:-//wp-events-plugin.com//7.2.3.1//EN
TZID:Europe/Paris
X-WR-TIMEZONE:Europe/Paris
BEGIN:VEVENT
UID:41@sportadapte35.fr
DTSTART;TZID=Europe/Paris;VALUE=DATE:20250126
DTEND;TZID=Europe/Paris;VALUE=DATE:20250127
DTSTAMP:20250107T132813Z
URL:https://sportadapte35.fr/events/championnat-departemental-para-badmint
 on-adapte-2/
SUMMARY:Championnat Départemental Para-Badminton Adapté
DESCRIPTION:Bonjour\,\n\n Le Championnat Départemental Para-Badminton Adap
 té est programmé au\n\n\n               
                  Dimanche 26 Janvier 2025 
 \n                        
      à Saint-Malo (Salle Duguay Trouin)\n\n\n  Vous trouverez en pi
 èces jointes les informations avec l'affiche\, le dossier d'inscription e
 t la fiche d'inscription à retourner avant le jeudi 16 janvier 2025. \n\n
 N'hésitez pas à revenir vers moi si besoin pour toutes questions ou rens
 eignements complémentaires. \n\nOn compte sur vous pour relayer l'informa
 tion à votre réseau et aux supporters.\n\n Belles fêtes de fin d'année
  et à très vite en 2025 ! ✨\n\nSportivement\,
ATTACH;FMTTYPE=image/jpeg:https://sportadapte35.fr/wp-content/uploads/2025
 /01/DEP-badminton-2025-pdf.jpg
CATEGORIES:Championnats
LOCATION:SACE St Malo\, 19\, rue de la Chaussée\, Saint-Malo\, 35400\, Fra
 nce
GEO:48.63753240;-2.00120650
X-APPLE-STRUCTURED-LOCATION;VALUE=URI;X-ADDRESS=19\, rue de la Chaussée\, 
 Saint-Malo\, 35400\, France;X-APPLE-RADIUS=100;X-TITLE=SACE St Malo:geo:48
 .63753240,-2.00120650
END:VEVENT
BEGIN:VTIMEZONE
TZID:Europe/Paris
X-LIC-LOCATION:Europe/Paris
BEGIN:STANDARD
DTSTART:20241027T020000
TZOFFSETFROM:+0200
TZOFFSETTO:+0100
TZNAME:CET
END:STANDARD
END:VTIMEZONE
END:VCALENDAR