BEGIN:VCALENDAR
VERSION:2.0
PRODID:-//wp-events-plugin.com//7.2.3.1//EN
TZID:Europe/Paris
X-WR-TIMEZONE:Europe/Paris
BEGIN:VEVENT
UID:38@sportadapte35.fr
DTSTART;TZID=Europe/Paris:20241010T100000
DTEND;TZID=Europe/Paris:20241010T170000
DTSTAMP:20240920T144854Z
URL:https://sportadapte35.fr/events/beaux-defis/
SUMMARY:Beaux Défis
DESCRIPTION:Bonjour\,\n\nVous les attendiez avec impatience : les Beaux Dé
 fis sont de retour pour une seconde édition en 2024 ! &#x1f388\;\n \n&#x1
 f4cd\; Le Village Decathlon Betton nous accueil le\n&#x1f5d3\; Jeudi 10 Oc
 tobre 2024\n\nLe thème sera "Les Super-Héros" alors n'hésitez pas à pr
 endre vos plus beaux déguisements ! Google (Noto Color Emoji - Unicode 15
 .1)\nCe sera aussi l'occasion de rencontrer les Héros de l'Association Ha
 roz.\n \n&#x1f449\; Notez bien la date dans vos agendas\, le nombre de pla
 ces est limité et une priorité sera donnée aux licenciés Sport Adapté
 . \n \n&#x26a0\;&#xfe0f\; La matinée sera destinée à un accueil échelo
 nné avec une priorité d'arrivée pour les pratiquants avec des TSA (entr
 e 10h15 et 11h15) afin de pouvoir réaliser les différents ateliers dans 
 un environnement plus calme. \n \n&#x1f60e\; On espère vous retrouvez nom
 breux pour ce bel évènement !\n \nLe Comité reste disponible pour toute
 s questions\, à très vite !\n \nSportivement\,
ATTACH;FMTTYPE=image/jpeg:https://sportadapte35.fr/wp-content/uploads/2024
 /09/Affiche-Beaux-Defis-oct-2024-pdf.jpg
CATEGORIES:Sport Santé
END:VEVENT
BEGIN:VTIMEZONE
TZID:Europe/Paris
X-LIC-LOCATION:Europe/Paris
BEGIN:DAYLIGHT
DTSTART:20240331T030000
TZOFFSETFROM:+0100
TZOFFSETTO:+0200
TZNAME:CEST
END:DAYLIGHT
END:VTIMEZONE
END:VCALENDAR