BEGIN:VCALENDAR
VERSION:2.0
PRODID:-//wp-events-plugin.com//7.2.3.1//EN
TZID:Europe/Paris
X-WR-TIMEZONE:Europe/Paris
BEGIN:VEVENT
UID:63@sportadapte35.fr
DTSTART;TZID=Europe/Paris;VALUE=DATE:20251002
DTEND;TZID=Europe/Paris;VALUE=DATE:20251003
DTSTAMP:20250910T165957Z
URL:https://sportadapte35.fr/events/beaux-defis-jeudi-02-octobre-village-d
 ecathlon-betton/
SUMMARY:[BEAUX DEFIS] - Jeudi 02 OCTOBRE - Village Decathlon Betton
DESCRIPTION:Bonjour\,\n\nVous les attendiez avec impatience : les Beaux Dé
 fis sont de retour \n \n Le Village Decathlon Betton nous accueil le\n Jeu
 di 02 Octobre 2025\n\nLe thème sera "Le cinéma" alors n'hésitez pas à 
 prendre vos plus beaux déguisements ! \nCe sera aussi l'occasion de renco
 ntrer les personnages de l'Association Haroz.\n \n Notez bien la date dans
  vos agendas\, le nombre de places est limité et une priorité sera donn
 ée aux licenciés Sport Adapté. \n \n⚠️ La matinée sera destinée 
 à un accueil échelonné avec une priorité d'arrivée pour les pratiquan
 ts avec des TSA (entre 10h15 et 11h15) afin de pouvoir réaliser les diff
 érents ateliers dans un environnement plus calme. \n \n On espère vous r
 etrouvez nombreux pour ce bel évènement !\n \nNous restons disponible po
 ur toutes questions\, à très vite !\n 
ATTACH;FMTTYPE=image/jpeg:https://sportadapte35.fr/wp-content/uploads/2025
 /09/Beaux-Defis-x2-pdf.jpg
CATEGORIES:Activités Motrices
END:VEVENT
BEGIN:VTIMEZONE
TZID:Europe/Paris
X-LIC-LOCATION:Europe/Paris
BEGIN:DAYLIGHT
DTSTART:20250330T030000
TZOFFSETFROM:+0100
TZOFFSETTO:+0200
TZNAME:CEST
END:DAYLIGHT
END:VTIMEZONE
END:VCALENDAR