BEGIN:VCALENDAR
VERSION:2.0
PRODID:-//wp-events-plugin.com//7.2.3.1//EN
TZID:Europe/Paris
X-WR-TIMEZONE:Europe/Paris
BEGIN:VEVENT
UID:31@sportadapte35.fr
DTSTART;TZID=Europe/Paris:20240116T133000
DTEND;TZID=Europe/Paris:20240116T160000
DTSTAMP:20240102T114906Z
URL:https://sportadapte35.fr/events/activites-motrices-un-petit-sejour-a-l
 a-montagne-%f0%9f%8f%94/
SUMMARY:Activités Motrices "Un petit séjour à la montagne !" &#x1f3d4\;
DESCRIPTION:Bonjour\,\n\nLa prochaine journée Activités Motrices arrive 
 à grands pas alors... À vos inscriptions ! On se donne rendez-vous \n\n&
 #x1f4cc\; Mardi 16 Janvier 2024 à Boisgervilly de 13h30 à 16h00\nSur le 
 thème : " Un petit séjour à la montagne !" &#x1f3d4\;\n\nCette journée
  est organisée en partenariat avec l'Office des Sports de St Méen Montau
 ban (OSSMM).\n\nLe nombre de places est limité et les inscriptions seront
  enregistrées par ordre d'arrivée.\n\n&#x26a0\;&#xfe0f\; Pour rappel les
  Activités Motrices sont en priorité à destination des personnes ayant 
 des difficultés à entrer dans une activité physique et sportive codifi
 ée. \n\n&#x1f4c5\; Vous pouvez dès à présent noter dans vos agendas\, 
 le prochain rdv Activités Motrices Aquatiques jeunes (-21ans) du lundi 26
  février !\n\nRestant à votre disposition pour tous renseignements compl
 émentaires.\n\n&#x1f384\; Belles fêtes de fin d'année et à très vite 
 en 2024 !\n\nSportivement\,
ATTACH;FMTTYPE=image/jpeg:https://sportadapte35.fr/wp-content/uploads/2024
 /01/Affiche-Activites-Motrices-2223.jpg
CATEGORIES:Activités Motrices
LOCATION:Boisgervilly\, Boisgervilly\, Boisgervilly\, France
GEO:48.16708890;-2.06517660
X-APPLE-STRUCTURED-LOCATION;VALUE=URI;X-ADDRESS=Boisgervilly\, Boisgervilly
 \, France;X-APPLE-RADIUS=100;X-TITLE=Boisgervilly:geo:48.16708890,-2.06517
 660
END:VEVENT
BEGIN:VTIMEZONE
TZID:Europe/Paris
X-LIC-LOCATION:Europe/Paris
BEGIN:STANDARD
DTSTART:20231029T020000
TZOFFSETFROM:+0200
TZOFFSETTO:+0100
TZNAME:CET
END:STANDARD
END:VTIMEZONE
END:VCALENDAR